{"text_format":"3","workbook":"xlsx","n_sheets":4,"sheets":["受検者情報","回答用","CSV送付用","Sheet3"],"not_rendered":{"images":7,"macros":1,"defined_names":1},"read":"whole","date_system":"1900"}

{"sheet":"受検者情報","index":0,"n_rows":48,"n_cols":21,"rows_kept":48,"merged":[[5,3,5,4],[5,6,5,7],[7,3,7,4],[7,6,7,7],[9,12,9,16],[13,3,13,4],[15,3,15,6],[17,3,17,8]]}
[]
[]
[]
[null,"必要事項を入力してください。　※　は必須項目です。"]
[]
[null,"※　氏名","姓：",null,null,"名：",{"$nulls":4},"ストレスチェック実施者がチェック後のフォローを行う"]
[]
[null,"※　フリガナ","姓：",null,null,"名：",{"$nulls":4},"場合の連絡先を記入してください"]
[]
[null,"※　生年月日（西暦）",null,null,"年",null,"月",null,"日",null,"メールアドレス"]
[]
[null,"※　性別",{"$nulls":8},"電話番号",null,null,"-",null,"-",null,null,"男性","本社","001"]
[{"$nulls":18},"女性","大宮事業所","002"]
[null,"※　社員番号",{"$nulls":8},"内線番号",{"$nulls":8},"名古屋事業所","003"]
[{"$nulls":19},"厚木事業所","004"]
[null,"※　管轄事業所",{"$nulls":5},{"$f":"IF(ISBLANK(D16),\"\",VLOOKUP(D16,T12:U16,2,FALSE))","v":""},{"$nulls":11},"大阪事業所","005"]
[]
[null,"※　派遣先（部署名）",{"$nulls":16},1,1]
[{"$nulls":18},2,2]
[null,"入力が終わりましたら「回答用」シートに進みストレスチェックを受検してください。",{"$nulls":16},3,3]
[{"$nulls":18},4,4]
[{"$nulls":18},5,5]
[{"$nulls":18},6,6]
[{"$nulls":18},7,7]
[{"$nulls":18},8,8]
[{"$nulls":18},9,9]
[{"$nulls":18},10,10]
[{"$nulls":18},11,11]
[{"$nulls":18},12,12]
[{"$nulls":19},13]
[{"$nulls":19},14]
[{"$nulls":19},15]
[{"$nulls":19},16]
[{"$nulls":19},17]
[{"$nulls":19},18]
[{"$nulls":19},19]
[{"$nulls":19},20]
[{"$nulls":19},21]
[{"$nulls":19},22]
[{"$nulls":19},23]
[{"$nulls":19},24]
[{"$nulls":19},25]
[{"$nulls":19},26]
[{"$nulls":19},27]
[{"$nulls":19},28]
[{"$nulls":19},29]
[{"$nulls":19},30]
[{"$nulls":19},31]

{"sheet":"回答用","index":1,"n_rows":97,"n_cols":6,"rows_kept":97,"merged":[[3,0,3,5],[25,0,25,5],[59,0,59,5],[61,0,61,4],[65,0,65,4],[69,0,69,4],[76,0,76,5],[89,0,89,5],[90,0,90,5],[91,0,91,5],[92,0,92,5]]}
[]
["職業性ストレス簡易調査票（57項目）"]
[]
["Ａ　あなたの仕事についてうかがいます。\n　　4つの中から最も当てはまるものを選んでください。（全17問）"]
[null,"そうだ","まあ\nそうだ","やや\nちがう","ちがう","回答欄"]
["　1.  非常にたくさんの仕事をしなければならない",1,2,3,4]
["　2.  時間内に仕事が処理しきれない",1,2,3,4]
["　3.  一生懸命働かなければならない",1,2,3,4]
["　4.  かなり注意を集中する必要がある",1,2,3,4]
["　5.  高度の知識や技術が必要なむずかしい仕事だ",1,2,3,4]
["　6.  勤務時間中はいつも仕事のことを考えていなければならない",1,2,3,4]
["　7.  からだを大変よく使う仕事だ",1,2,3,4]
["　8.  自分のペースで仕事ができる",1,2,3,4]
["　9.  自分で仕事の順番・やり方を決めることができる",1,2,3,4]
["　10. 職場の仕事の方針に自分の意見を反映できる",1,2,3,4]
["　11. 自分の技能や知識を仕事で使うことが少ない",1,2,3,4]
["　12. 私の部署内で意見のくい違いがある",1,2,3,4]
["　13. 私の部署と他の部署とはうまが合わない",1,2,3,4]
["　14. 私の職場の雰囲気は友好的である",1,2,3,4]
["　15. 私の職場の作業環境（騒音、照明、温度、換気など）はよくない",1,2,3,4]
["　16. 仕事の内容は自分にあっている",1,2,3,4]
["　17. 働きがいのある仕事だ",1,2,3,4]
[]
[]
[]
["Ｂ　最近1 か月間のあなたの状態についてうかがいます。\n　　4つの中から最も当てはまるものを選んでください。（全29問）"]
[null,"ほとんど無かった","時々あった","しばしばあった","ほとんどいつもあった","回答欄"]
["　1.  活気がわいてくる",1,2,3,4]
["　2.  元気がいっぱいだ",1,2,3,4]
["　3.  生き生きする",1,2,3,4]
["　4.  怒りを感じる",1,2,3,4]
["　5.  内心腹立たしい",1,2,3,4]
["　6.  イライラしている",1,2,3,4]
["　7.  ひどく疲れた",1,2,3,4]
["　8.  へとへとだ",1,2,3,4]
["　9.  だるい",1,2,3,4]
["　10. 気がはりつめている",1,2,3,4]
["　11. 不安だ",1,2,3,4]
["　12. 落着かない",1,2,3,4]
["　13. ゆううつだ",1,2,3,4]
["　14. 何をするのも面倒だ",1,2,3,4]
["　15. 物事に集中できない",1,2,3,4]
["　16. 気分が晴れない",1,2,3,4]
["　17. 仕事が手につかない",1,2,3,4]
["　18. 悲しいと感じる",1,2,3,4]
["　19. めまいがする",1,2,3,4]
["　20. 体のふしぶしが痛む",1,2,3,4]
["　21. 頭が重かったり頭痛がする",1,2,3,4]
["　22. 首筋や肩がこる",1,2,3,4]
["　23. 腰が痛い",1,2,3,4]
["　24. 目が疲れる",1,2,3,4]
["　25. 動悸や息切れがする",1,2,3,4]
["　26. 胃腸の具合が悪い",1,2,3,4]
["　27. 食欲がない",1,2,3,4]
["　28. 便秘や下痢をする",1,2,3,4]
["　29. よく眠れない",1,2,3,4]
[]
[]
[]
["Ｃ　あなたの周りの方々についてうかがいます。\n　　4つの中から最も当てはまるものを選んでください。（全9問）"]
[null,"非常に","かなり","多少","全くない","回答欄"]
["次の人たちはどのくらい気軽に話ができますか？"]
["　1.  上司",1,2,3,4]
["　2.  職場の同僚",1,2,3,4]
["　3.  配偶者、家族、友人等",1,2,3,4]
["あなたが困った時、次の人たちはどのくらい頼りになりますか？"]
["　4.  上司",1,2,3,4]
["　5.  職場の同僚",1,2,3,4]
["　6.  配偶者、家族、友人等",1,2,3,4]
["あなたの個人的な問題を相談したら、次の人たちはどのくらいきいてくれますか？"]
["　7.  上司",1,2,3,4]
["　8.  職場の同僚",1,2,3,4]
["　9.  配偶者、家族、友人等",1,2,3,4]
[]
[]
[]
["Ｄ　満足度について\n　　4つの中から最も当てはまるものを選んでください。（全2問）"]
[null,"満足","まあ\n満足","やや\n不満足","不満足","回答欄"]
["　1.  仕事に満足だ",1,2,3,4]
["　2.  家庭生活に満足だ",1,2,3,4]
[]
[]
[]
[]
[]
["　　　　質問はこれで終わりです。"]
["　　　　お疲れ様でした。"]
[]
[]
["受検者情報及び回答欄のすべての記入が終わりましたら右下の「CSVファイル出力」ボタンを押して"]
["CSVファイルを出力してください。CSVファイルはこのファイルと同じ場所に保存されます。"]
["出力したCSVファイルは下記メールアドレスに送ってください。"]
["メールの件名は「ストレスチェック回答」、本文には社員番号と氏名のみ記載してください。"]
["stresscheck@altekna.co.jp"]
[]
["ストレスチェックの結果は後日担当者よりお知らせします。"]
["ご不明な点がございましたら、管理部の松田又は礒野までお問い合わせください。"]

{"sheet":"CSV送付用","index":2,"n_rows":2,"n_cols":71,"rows_kept":2,"hidden":true}
["氏名","フリガナ","生年月日(西暦)","性別","社員ID","職場コード","職場名","前回社員ID","メールアドレス","電話番号","内線番号","備考","管理者コメント","変数値","A-1","A-2","A-3","A-4","A-5","A-6","A-7","A-8","A-9","A-10","A-11","A-12","A-13","A-14","A-15","A-16","A-17","B-1","B-2","B-3","B-4","B-5","B-6","B-7","B-8","B-9","B-10","B-11","B-12","B-13","B-14","B-15","B-16","B-17","B-18","B-19","B-20","B-21","B-22","B-23","B-24","B-25","B-26","B-27","B-28","B-29","C-1","C-2","C-3","C-4","C-5","C-6","C-7","C-8","C-9","D-1","D-2"]
[{"$f":"受検者情報!D6&\"　\"&受検者情報!G6","v":"　"},{"$f":"受検者情報!D8&\"　\"&受検者情報!G8","v":"　"},{"$f":"IF(ISERROR(DATE(受検者情報!D10,受検者情報!F10,受検者情報!H10)),0,DATE(受検者情報!D10,受検者情報!F10,受検者情報!H10))","v":"00:00:00"},{"$f":"受検者情報!D12","v":0},{"$f":"受検者情報!D14","v":0},{"$f":"受検者情報!H16","v":""},{"$f":"受検者情報!D16","v":0},null,{"$f":"受検者情報!M10","v":0},{"$f":"IF(ISERROR(CONCATENATE(受検者情報!M12,受検者情報!O12,受検者情報!Q12)),0,CONCATENATE(受検者情報!M12,受検者情報!O12,受検者情報!Q12))","v":""},{"$f":"受検者情報!M14","v":0},{"$f":"受検者情報!D18","v":0},null,null,{"$f":"回答用!$F6","v":0},{"$f":"回答用!$F7","v":0},{"$f":"回答用!$F8","v":0},{"$f":"回答用!$F9","v":0},{"$f":"回答用!$F10","v":0},{"$f":"回答用!$F11","v":0},{"$f":"回答用!$F12","v":0},{"$f":"回答用!$F13","v":0},{"$f":"回答用!$F14","v":0},{"$f":"回答用!$F15","v":0},{"$f":"回答用!$F16","v":0},{"$f":"回答用!$F17","v":0},{"$f":"回答用!$F18","v":0},{"$f":"回答用!$F19","v":0},{"$f":"回答用!$F20","v":0},{"$f":"回答用!$F21","v":0},{"$f":"回答用!$F22","v":0},{"$f":"回答用!$F28","v":0},{"$f":"回答用!$F29","v":0},{"$f":"回答用!$F30","v":0},{"$f":"回答用!$F31","v":0},{"$f":"回答用!$F32","v":0},{"$f":"回答用!$F33","v":0},{"$f":"回答用!$F34","v":0},{"$f":"回答用!$F35","v":0},{"$f":"回答用!$F36","v":0},{"$f":"回答用!$F37","v":0},{"$f":"回答用!$F38","v":0},{"$f":"回答用!$F39","v":0},{"$f":"回答用!$F40","v":0},{"$f":"回答用!$F41","v":0},{"$f":"回答用!$F42","v":0},{"$f":"回答用!$F43","v":0},{"$f":"回答用!$F44","v":0},{"$f":"回答用!$F45","v":0},{"$f":"回答用!$F46","v":0},{"$f":"回答用!$F47","v":0},{"$f":"回答用!$F48","v":0},{"$f":"回答用!$F49","v":0},{"$f":"回答用!$F50","v":0},{"$f":"回答用!$F51","v":0},{"$f":"回答用!$F52","v":0},{"$f":"回答用!$F53","v":0},{"$f":"回答用!$F54","v":0},{"$f":"回答用!$F55","v":0},{"$f":"回答用!$F56","v":0},{"$f":"回答用!$F63","v":0},{"$f":"回答用!$F64","v":0},{"$f":"回答用!$F65","v":0},{"$f":"回答用!$F67","v":0},{"$f":"回答用!$F68","v":0},{"$f":"回答用!$F69","v":0},{"$f":"回答用!$F71","v":0},{"$f":"回答用!$F72","v":0},{"$f":"回答用!$F73","v":0},{"$f":"回答用!$F79","v":0},{"$f":"回答用!$F80","v":0}]

{"sheet":"Sheet3","index":3,"n_rows":14,"n_cols":72,"rows_kept":14,"hidden":true,"merged":[[6,15,6,71],[13,15,13,37]]}
[]
[null,"標準版"]
[null,"項番",1,2,3,4,5,6,7,8,9,10,11,12,13,14,15,16,17,18,19,20,21,22,23,24,25,26,27,28,29,30,31,32,33,34,35,36,37,38,39,40,41,42,43,44,45,46,47,48,49,50,51,52,53,54,55,56,57,58,59,60,61,62,63,64,65,66,67,68,69,70]
[null,"項目名","ID番号","氏名","フリガナ","生年月日(西暦)","性別","社員ID","職場コード","職場名","メールアドレス","電話番号","内線番号","備考","管理者コメント","A-1","A-2","A-3","A-4","A-5","A-6","A-7","A-8","A-9","A-10","A-11","A-12","A-13","A-14","A-15","A-16","A-17","B-1","B-2","B-3","B-4","B-5","B-6","B-7","B-8","B-9","B-10","B-11","B-12","B-13","B-14","B-15","B-16","B-17","B-18","B-19","B-20","B-21","B-22","B-23","B-24","B-25","B-26","B-27","B-28","B-29","C-1","C-2","C-3","C-4","C-5","C-6","C-7","C-8","C-9","D-1","D-2"]
[null,"型","-","string","string","date","string","string","string","string","string","int","int","string","string","int","int","int","int","int","int","int","int","int","int","int","int","int","int","int","int","int","int","int","int","int","int","int","int","int","int","int","int","int","int","int","int","int","int","int","int","int","int","int","int","int","int","int","int","int","int","int","int","int","int","int","int","int","int","int","int","int"]
[null,"桁","-",40,40,"4/2/2","-",16,16,60,256,11,11,200,200,1,1,1,1,1,1,1,1,1,1,1,1,1,1,1,1,1,1,1,1,1,1,1,1,1,1,1,1,1,1,1,1,1,1,1,1,1,1,1,1,1,1,1,1,1,1,1,1,1,1,1,1,1,1,1,1,1]
[null,"備考","（記載しない）","-","-","西暦/月/日","男性、女性のどちらかを記載","-","-","-","-","ハイフンなし","ハイフンなし","-","-","1～4のいずれか"]
[]
[null,"簡易版"]
[null,"項番",1,2,3,4,5,6,7,8,9,10,11,12,13,14,15,16,17,18,19,20,21,22,23,24,25,26,27,28,29,30,31,32,33,34,35,36]
[null,"項目名","ID番号","氏名","フリガナ","生年月日(西暦)","性別","社員ID","職場コード","職場名","メールアドレス","電話番号","内線番号","備考","管理者コメント","A-1","A-2","A-3","A-4","A-5","A-6","B-1","B-2","B-3","B-4","B-5","B-6","B-7","B-8","B-9","B-10","B-11","C-1","C-2","C-3","C-4","C-5","C-6"]
[null,"型","-","string","string","date","string","string","string","string","string","int","int","string","string","int","int","int","int","int","int","int","int","int","int","int","int","int","int","int","int","int","int","int","int","int","int","int"]
[null,"桁","-",40,40,"4/2/2","-",16,16,60,256,11,11,200,200,1,1,1,1,1,1,1,1,1,1,1,1,1,1,1,1,1,1,1,1,1,1,1]
[null,"備考","（記載しない）","-","-","西暦/月/日","男性、女性のどちらかを記載","-","-","-","-","ハイフンなし","ハイフンなし","-","-","1～4のいずれか"]